BEGIN:VCALENDAR
VERSION:2.0
PRODID:-//Eventin//Event Calendar//EN
CALSCALE:GREGORIAN
METHOD:PUBLISH
BEGIN:VEVENT
UID:28c5c1e5e95d2038cc2c081c98b1315d@smyrnahistoricalsociety.org
SUMMARY:A Mind Without Rhythm: Brawner Hospital and Mental Health in Smyrna
DESCRIPTION:Join us at the Smyrna Museum on Saturday\, May 18\, 2024\, from
  2 PM to 4 PM for the exhibition "A Mind Without Rhythm: Brawner Hospital a
 nd Mental Health in Smyrna." Delve into the fascinating history of mental h
 ealth in Smyrna\, with a particular focus on Brawner Hospital. This event\,
  sponsored by the Smyrna Historical Society\, will offer an insightful look
  into the local mental health history. Refreshments will be provided on the
  museum patio. 
LOCATION:Online
DTSTAMP:20260421T083113Z
DTSTART:20240518T180000Z
DTEND:20260421T200000Z
END:VEVENT
END:VCALENDAR
